BEGIN:VCALENDAR
VERSION:2.0
PRODID:-//time.you/holidays//NONSGML v1.0//EN
BEGIN:VEVENT
UID:ea3db466-9407-4ef8-9ea3-72419e36b33e
DTSTAMP:20260421T155243Z
DTSTART;VALUE=DATE:20221010
SUMMARY:Prophet's Birthday (observed) (Guyana)
END:VEVENT
END:VCALENDAR