BEGIN:VCALENDAR
VERSION:2.0
PRODID:-//time.you/holidays//NONSGML v1.0//EN
BEGIN:VEVENT
UID:858ecfb1-36dd-43a7-9252-24775f3e22b1
DTSTAMP:20260422T051747Z
DTSTART;VALUE=DATE:20260501
SUMMARY:Agriculture and Labor Day (Haiti)
END:VEVENT
END:VCALENDAR