BEGIN:VCALENDAR
VERSION:2.0
PRODID:-//time.you/holidays//NONSGML v1.0//EN
BEGIN:VEVENT
UID:7688e717-e0c8-427f-9d72-6aa623537477
DTSTAMP:20260419T180815Z
DTSTART;VALUE=DATE:20260102
SUMMARY:Ancestry Day (Haiti)
END:VEVENT
END:VCALENDAR