BEGIN:VCALENDAR
VERSION:2.0
PRODID:-//time.you/holidays//NONSGML v1.0//EN
BEGIN:VEVENT
UID:b886b7c2-a328-43af-a371-60cc867966ea
DTSTAMP:20260420T090406Z
DTSTART;VALUE=DATE:20261118
SUMMARY:Armed Forces Day; Commemoration of the Battle of Vertieres (Haiti)
END:VEVENT
END:VCALENDAR