BEGIN:VCALENDAR
VERSION:2.0
PRODID:-//time.you/holidays//NONSGML v1.0//EN
BEGIN:VEVENT
UID:c0a92739-9bcd-4051-80ec-f7435d18c20a
DTSTAMP:20260424T200828Z
DTSTART;VALUE=DATE:20260604
SUMMARY:Corpus Christi (Haiti)
END:VEVENT
END:VCALENDAR