BEGIN:VCALENDAR
VERSION:2.0
PRODID:-//time.you/holidays//NONSGML v1.0//EN
BEGIN:VEVENT
UID:1dc80ef7-610f-402e-845a-76bc5723db00
DTSTAMP:20260420T071837Z
DTSTART;VALUE=DATE:20261102
SUMMARY:Day of the Dead (Haiti)
END:VEVENT
END:VCALENDAR