BEGIN:VCALENDAR
VERSION:2.0
PRODID:-//time.you/holidays//NONSGML v1.0//EN
BEGIN:VEVENT
UID:759cdccd-6fbc-402c-95e2-cf2a679b8458
DTSTAMP:20260420T062514Z
DTSTART;VALUE=DATE:20261017
SUMMARY:Death of Dessalines (Haiti)
END:VEVENT
END:VCALENDAR