BEGIN:VCALENDAR
VERSION:2.0
PRODID:-//time.you/holidays//NONSGML v1.0//EN
BEGIN:VEVENT
UID:70e89614-2d71-40ba-b1c8-6cc059392506
DTSTAMP:20260420T165218Z
DTSTART;VALUE=DATE:20260518
SUMMARY:Flag Day and University Day (Haiti)
END:VEVENT
END:VCALENDAR