BEGIN:VCALENDAR
VERSION:2.0
PRODID:-//time.you/holidays//NONSGML v1.0//EN
BEGIN:VEVENT
UID:21315bfe-1c7b-4d9d-9808-e1e154df5e06
DTSTAMP:20260424T155624Z
DTSTART;VALUE=DATE:20260403
SUMMARY:Good Friday (Haiti)
END:VEVENT
END:VCALENDAR