BEGIN:VCALENDAR
VERSION:2.0
PRODID:-//time.you/holidays//NONSGML v1.0//EN
BEGIN:VEVENT
UID:52f0c687-b6b3-4732-953f-3b9b3cb314d0
DTSTAMP:20260419T163650Z
DTSTART;VALUE=DATE:20260101
SUMMARY:National Independence Day; New Year's Day (Haiti)
END:VEVENT
END:VCALENDAR