BEGIN:VCALENDAR
VERSION:2.0
PRODID:-//time.you/holidays//NONSGML v1.0//EN
BEGIN:VEVENT
UID:61b0e733-ac3b-4dbf-9b3d-6586584eba8f
DTSTAMP:20260420T152554Z
DTSTART;VALUE=DATE:20260216
SUMMARY:Shrove Monday (Haiti)
END:VEVENT
END:VCALENDAR