BEGIN:VCALENDAR
VERSION:2.0
PRODID:-//time.you/holidays//NONSGML v1.0//EN
BEGIN:VEVENT
UID:f95f236e-0323-4198-81dd-52e3c350b963
DTSTAMP:20260420T154308Z
DTSTART;VALUE=DATE:20261225
SUMMARY:Christmas Day (Honduras)
END:VEVENT
END:VCALENDAR