BEGIN:VCALENDAR
VERSION:2.0
PRODID:-//time.you/holidays//NONSGML v1.0//EN
BEGIN:VEVENT
UID:a54ca69a-03f0-4c02-89b7-2bde43702312
DTSTAMP:20260423T184048Z
DTSTART;VALUE=DATE:20280414
SUMMARY:Good Friday; Panamerican Day (Honduras)
END:VEVENT
END:VCALENDAR