BEGIN:VCALENDAR
VERSION:2.0
PRODID:-//time.you/holidays//NONSGML v1.0//EN
BEGIN:VEVENT
UID:6aa9eb9c-ff0f-40b0-b2db-b044b00f8b9b
DTSTAMP:20260421T113229Z
DTSTART;VALUE=DATE:20260404
SUMMARY:Holy Saturday (Honduras)
END:VEVENT
END:VCALENDAR