BEGIN:VCALENDAR
VERSION:2.0
PRODID:-//time.you/holidays//NONSGML v1.0//EN
BEGIN:VEVENT
UID:865c21ec-6a39-4976-8538-f119a0543cd7
DTSTAMP:20260420T073656Z
DTSTART;VALUE=DATE:20260915
SUMMARY:Independence Day (Honduras)
END:VEVENT
END:VCALENDAR