BEGIN:VCALENDAR
VERSION:2.0
PRODID:-//time.you/holidays//NONSGML v1.0//EN
BEGIN:VEVENT
UID:f80210c4-4cf9-4a50-9bf9-64cc1ae52e00
DTSTAMP:20260422T045616Z
DTSTART;VALUE=DATE:20260501
SUMMARY:Labor Day (Honduras)
END:VEVENT
END:VCALENDAR