BEGIN:VCALENDAR
VERSION:2.0
PRODID:-//time.you/holidays//NONSGML v1.0//EN
BEGIN:VEVENT
UID:d57384cb-72e6-41ad-8a6f-4c6d6189ac8c
DTSTAMP:20260422T070748Z
DTSTART;VALUE=DATE:20330414
SUMMARY:Maundy Thursday; Panamerican Day (Honduras)
END:VEVENT
END:VCALENDAR