BEGIN:VCALENDAR
VERSION:2.0
PRODID:-//time.you/holidays//NONSGML v1.0//EN
BEGIN:VEVENT
UID:1ff430b6-d1b8-4ea4-bbc4-1f6756b05165
DTSTAMP:20260421T210344Z
DTSTART;VALUE=DATE:20261007
SUMMARY:Morazan Weekend (Honduras)
END:VEVENT
END:VCALENDAR