BEGIN:VCALENDAR
VERSION:2.0
PRODID:-//time.you/holidays//NONSGML v1.0//EN
BEGIN:VEVENT
UID:56675d00-45b6-4227-9e6b-0274f90e4df0
DTSTAMP:20260421T215434Z
DTSTART;VALUE=DATE:20260101
SUMMARY:New Year's Day (Honduras)
END:VEVENT
END:VCALENDAR