BEGIN:VCALENDAR
VERSION:2.0
PRODID:-//time.you/holidays//NONSGML v1.0//EN
BEGIN:VEVENT
UID:4815e6e5-36c5-45ec-ab0b-9e63fc9917ee
DTSTAMP:20260423T140114Z
DTSTART;VALUE=DATE:20340102
SUMMARY:New Year's Day (observed) (Hong Kong)
END:VEVENT
END:VCALENDAR