BEGIN:VCALENDAR
VERSION:2.0
PRODID:-//time.you/holidays//NONSGML v1.0//EN
BEGIN:VEVENT
UID:17cd45d0-639b-478a-8c59-4816ddf4f103
DTSTAMP:20260419T234913Z
DTSTART;VALUE=DATE:20260101
SUMMARY:New Year's Day (Hong Kong)
END:VEVENT
END:VCALENDAR