BEGIN:VCALENDAR
VERSION:2.0
PRODID:-//time.you/holidays//NONSGML v1.0//EN
BEGIN:VEVENT
UID:80500e63-e123-49df-9422-e71ae4080404
DTSTAMP:20260420T062500Z
DTSTART;VALUE=DATE:20260926
SUMMARY:The Day following Mid-Autumn Festival (Hong Kong)
END:VEVENT
END:VCALENDAR