BEGIN:VCALENDAR
VERSION:2.0
PRODID:-//time.you/holidays//NONSGML v1.0//EN
BEGIN:VEVENT
UID:e91e45a7-cd60-46c0-ba23-338e2a633d79
DTSTAMP:20260424T164431Z
DTSTART;VALUE=DATE:20271227
SUMMARY:The first weekday after Christmas Day (observed) (Hong Kong)
END:VEVENT
END:VCALENDAR