BEGIN:VCALENDAR
VERSION:2.0
PRODID:-//time.you/holidays//NONSGML v1.0//EN
BEGIN:VEVENT
UID:96972b70-c006-45b7-8e94-7065351743f7
DTSTAMP:20260420T055119Z
DTSTART;VALUE=DATE:20261226
SUMMARY:The first weekday after Christmas Day (Hong Kong)
END:VEVENT
END:VCALENDAR