BEGIN:VCALENDAR
VERSION:2.0
PRODID:-//time.you/holidays//NONSGML v1.0//EN
BEGIN:VEVENT
UID:06ef3f3a-0f41-4996-a303-81f4c0330279
DTSTAMP:20260421T230351Z
DTSTART;VALUE=DATE:20290924
SUMMARY:The Second Day following Mid-Autumn Festival (Hong Kong)
END:VEVENT
END:VCALENDAR