BEGIN:VCALENDAR
VERSION:2.0
PRODID:-//time.you/holidays//NONSGML v1.0//EN
BEGIN:VEVENT
UID:255b654d-91bd-4dbf-b0a2-d6016d794294
DTSTAMP:20260420T074342Z
DTSTART;VALUE=DATE:20260218
SUMMARY:The second day of Chinese New Year (Hong Kong)
END:VEVENT
END:VCALENDAR