BEGIN:VCALENDAR
VERSION:2.0
PRODID:-//time.you/holidays//NONSGML v1.0//EN
BEGIN:VEVENT
UID:32078131-cf79-4c53-b741-4738731a85b4
DTSTAMP:20260422T034700Z
DTSTART;VALUE=DATE:20261101
SUMMARY:All Saints' Day (Hungary)
END:VEVENT
END:VCALENDAR