BEGIN:VCALENDAR
VERSION:2.0
PRODID:-//time.you/holidays//NONSGML v1.0//EN
BEGIN:VEVENT
UID:1634efc5-9a33-4838-9072-2aeab1814912
DTSTAMP:20260421T144012Z
DTSTART;VALUE=DATE:20260102
SUMMARY:Day off (substituted from 01/10/2026) (Hungary)
END:VEVENT
END:VCALENDAR