BEGIN:VCALENDAR
VERSION:2.0
PRODID:-//time.you/holidays//NONSGML v1.0//EN
BEGIN:VEVENT
UID:7db4d49b-065b-4a69-b34e-bf1ad048984e
DTSTAMP:20260421T172907Z
DTSTART;VALUE=DATE:20220314
SUMMARY:Day off (substituted from 03/26/2022) (Hungary)
END:VEVENT
END:VCALENDAR