BEGIN:VCALENDAR
VERSION:2.0
PRODID:-//time.you/holidays//NONSGML v1.0//EN
BEGIN:VEVENT
UID:908b6cf9-a206-4914-8853-6f9e9cd03c2e
DTSTAMP:20260422T011638Z
DTSTART;VALUE=DATE:20240819
SUMMARY:Day off (substituted from 08/03/2024) (Hungary)
END:VEVENT
END:VCALENDAR