BEGIN:VCALENDAR
VERSION:2.0
PRODID:-//time.you/holidays//NONSGML v1.0//EN
BEGIN:VEVENT
UID:78ad0bf0-ce68-48ad-b6a5-15d4ae3488d7
DTSTAMP:20260422T070749Z
DTSTART;VALUE=DATE:20251024
SUMMARY:Day off (substituted from 10/18/2025) (Hungary)
END:VEVENT
END:VCALENDAR