BEGIN:VCALENDAR
VERSION:2.0
PRODID:-//time.you/holidays//NONSGML v1.0//EN
BEGIN:VEVENT
UID:06b1e5af-d8ee-4854-8ee4-0f76b18580d8
DTSTAMP:20260422T114816Z
DTSTART;VALUE=DATE:20261224
SUMMARY:Day off (substituted from 12/12/2026) (Hungary)
END:VEVENT
END:VCALENDAR