BEGIN:VCALENDAR
VERSION:2.0
PRODID:-//time.you/holidays//NONSGML v1.0//EN
BEGIN:VEVENT
UID:87fbf531-de98-4cd1-86ba-f3014e3c2110
DTSTAMP:20260424T170210Z
DTSTART;VALUE=DATE:20260406
SUMMARY:Easter Monday (Hungary)
END:VEVENT
END:VCALENDAR