BEGIN:VCALENDAR
VERSION:2.0
PRODID:-//time.you/holidays//NONSGML v1.0//EN
BEGIN:VEVENT
UID:882f8513-fa6c-4f87-8874-2e2a922b98ac
DTSTAMP:20260419T234836Z
DTSTART;VALUE=DATE:20260101
SUMMARY:New Year's Day (Hungary)
END:VEVENT
END:VCALENDAR