BEGIN:VCALENDAR
VERSION:2.0
PRODID:-//time.you/holidays//NONSGML v1.0//EN
BEGIN:VEVENT
UID:38d41159-adf4-4cb8-a31e-7be867183a1b
DTSTAMP:20260421T205527Z
DTSTART;VALUE=DATE:20261226
SUMMARY:Second Day of Christmas (Hungary)
END:VEVENT
END:VCALENDAR