BEGIN:VCALENDAR
VERSION:2.0
PRODID:-//time.you/holidays//NONSGML v1.0//EN
BEGIN:VEVENT
UID:7cd34074-a1de-4e3c-bf83-3ccb6502fdbb
DTSTAMP:20260422T033407Z
DTSTART;VALUE=DATE:20260514
SUMMARY:Ascension Day (Iceland)
END:VEVENT
END:VCALENDAR