BEGIN:VCALENDAR
VERSION:2.0
PRODID:-//time.you/holidays//NONSGML v1.0//EN
BEGIN:VEVENT
UID:d31efd5e-e306-42cb-8536-b95f28ec5d81
DTSTAMP:20260421T131819Z
DTSTART;VALUE=DATE:20260803
SUMMARY:Commerce Day (Iceland)
END:VEVENT
END:VCALENDAR