BEGIN:VCALENDAR
VERSION:2.0
PRODID:-//time.you/holidays//NONSGML v1.0//EN
BEGIN:VEVENT
UID:4a98c8bc-f9b9-49e1-8e4d-fdb620541610
DTSTAMP:20260423T162845Z
DTSTART;VALUE=DATE:20260406
SUMMARY:Easter Monday (Iceland)
END:VEVENT
END:VCALENDAR