BEGIN:VCALENDAR
VERSION:2.0
PRODID:-//time.you/holidays//NONSGML v1.0//EN
BEGIN:VEVENT
UID:8002aa60-018e-4fc2-9633-069ce770d93a
DTSTAMP:20260424T141253Z
DTSTART;VALUE=DATE:20260405
SUMMARY:Easter Sunday (Iceland)
END:VEVENT
END:VCALENDAR