BEGIN:VCALENDAR
VERSION:2.0
PRODID:-//time.you/holidays//NONSGML v1.0//EN
BEGIN:VEVENT
UID:777d80f1-281b-47d9-b3f7-bc129f6c42ff
DTSTAMP:20260420T154831Z
DTSTART;VALUE=DATE:20261226
SUMMARY:Second Day of Christmas (Iceland)
END:VEVENT
END:VCALENDAR