BEGIN:VCALENDAR
VERSION:2.0
PRODID:-//time.you/holidays//NONSGML v1.0//EN
BEGIN:VEVENT
UID:4a8c6d95-360d-4a30-9bfa-39f270cd8625
DTSTAMP:20260420T021321Z
DTSTART;VALUE=DATE:20260626
SUMMARY:Ashura (estimated) (India)
END:VEVENT
END:VCALENDAR