BEGIN:VCALENDAR
VERSION:2.0
PRODID:-//time.you/holidays//NONSGML v1.0//EN
BEGIN:VEVENT
UID:55f18d19-38dd-41d3-b731-8cad86f39d5c
DTSTAMP:20260419T233655Z
DTSTART;VALUE=DATE:20260501
SUMMARY:Buddha Purnima; Maharashtra Day (India)
END:VEVENT
END:VCALENDAR