BEGIN:VCALENDAR
VERSION:2.0
PRODID:-//time.you/holidays//NONSGML v1.0//EN
BEGIN:VEVENT
UID:3ed877b8-7097-44e0-9838-4ddb504b2b70
DTSTAMP:20260421T235632Z
DTSTART;VALUE=DATE:20260219
SUMMARY:Chhatrapati Shivaji Maharaj Jayanti (India)
END:VEVENT
END:VCALENDAR