BEGIN:VCALENDAR
VERSION:2.0
PRODID:-//time.you/holidays//NONSGML v1.0//EN
BEGIN:VEVENT
UID:ae447752-747e-404c-b284-d4e9d3bb03e5
DTSTAMP:20260420T212240Z
DTSTART;VALUE=DATE:20261108
SUMMARY:Diwali (India)
END:VEVENT
END:VCALENDAR