BEGIN:VCALENDAR
VERSION:2.0
PRODID:-//time.you/holidays//NONSGML v1.0//EN
BEGIN:VEVENT
UID:9834e1b5-c02d-43e9-a4e6-86d8ecd91d9f
DTSTAMP:20260420T005339Z
DTSTART;VALUE=DATE:20280414
SUMMARY:Dr. B. R. Ambedkar's Jayanti; Good Friday; Puthandu (Tamil New Year) (India)
END:VEVENT
END:VCALENDAR