BEGIN:VCALENDAR
VERSION:2.0
PRODID:-//time.you/holidays//NONSGML v1.0//EN
BEGIN:VEVENT
UID:375daaa5-6124-4974-bd8f-fc65b9812ee8
DTSTAMP:20260420T141136Z
DTSTART;VALUE=DATE:20220414
SUMMARY:Dr. B. R. Ambedkar's Jayanti; Mahavir Jayanti; Puthandu (Tamil New Year) (India)
END:VEVENT
END:VCALENDAR