BEGIN:VCALENDAR
VERSION:2.0
PRODID:-//time.you/holidays//NONSGML v1.0//EN
BEGIN:VEVENT
UID:02b341eb-9c3b-4199-bb96-4cc620d551e9
DTSTAMP:20260422T071624Z
DTSTART;VALUE=DATE:20260414
SUMMARY:Dr. B. R. Ambedkar's Jayanti; Puthandu (Tamil New Year) (India)
END:VEVENT
END:VCALENDAR