BEGIN:VCALENDAR
VERSION:2.0
PRODID:-//time.you/holidays//NONSGML v1.0//EN
BEGIN:VEVENT
UID:51e9b8d4-5995-4066-9b33-4744e27e33f4
DTSTAMP:20260424T000629Z
DTSTART;VALUE=DATE:20261020
SUMMARY:Dussehra (India)
END:VEVENT
END:VCALENDAR