BEGIN:VCALENDAR
VERSION:2.0
PRODID:-//time.you/holidays//NONSGML v1.0//EN
BEGIN:VEVENT
UID:abf7d4ac-ab46-46b1-bd5e-3ed9130b426c
DTSTAMP:20260421T185039Z
DTSTART;VALUE=DATE:20260321
SUMMARY:Eid al-Fitr (estimated) (India)
END:VEVENT
END:VCALENDAR