BEGIN:VCALENDAR
VERSION:2.0
PRODID:-//time.you/holidays//NONSGML v1.0//EN
BEGIN:VEVENT
UID:8642ed77-35f5-47b8-91e4-3de93baff044
DTSTAMP:20260419T233606Z
DTSTART;VALUE=DATE:20261002
SUMMARY:Gandhi Jayanti (India)
END:VEVENT
END:VCALENDAR